BEGIN:VCALENDAR
VERSION:2.0
CALSCALE:GREGORIAN
PRODID:-//Diputació de Barcelona//DibaCMS//EN
BEGIN:VEVENT
UID:974
DTSTAMP:20260423T101701
DTSTART:20210628T000000
DTEND:20210704T000000
SUMMARY:VILANOVA AMB ORGULL
LOCATION:
METHOD:PUBLISH
X-WR-CALNAME:coordinacio@micod.cat
X-WR-TIMEZONE:Europe/Madrid
DESCRIPTION:El dia 28 construirem la bandera LGTBI a la plaça del Mercat mitjançant paraigües dels colors representatius del col·lectiu LGTBI.
Lloc: plaça del Mercat de Vilanova.
Ho organitza: Regidoria d’igualtat de l’Ajuntament de Vilanova del Camí.
 

URI:https://www.micod.cat/actualitat/agenda/vilanova-amb-orgull.html
CLASS:PUBLIC
END:VEVENT
END:VCALENDAR
