BEGIN:VCALENDAR
VERSION:2.0
CALSCALE:GREGORIAN
PRODID:-//Diputació de Barcelona//DibaCMS//EN
BEGIN:VEVENT
UID:968
DTSTAMP:20260420T193931
DTSTART:20210601T100000
DTEND:20210630T150000
SUMMARY:EXPOSICIÓ: Talent Creatiu i Empresa. Disseny i compromís social LGBTI
LOCATION:
METHOD:PUBLISH
X-WR-CALNAME:coordinacio@micod.cat
X-WR-TIMEZONE:Europe/Madrid
DESCRIPTION:Descripció: Mostra de cartells dissenyats per alumnes de primer curs, dins del mòdul de Projectes de Gràfica Publicitària, en el programa Talent Creatiu i Empresa organitzat pel Departament d'Educació, per visibilitzar el col·lectiu LGBTI en diferents àmbits: l'esport, els centres de dia i residències de gent d'edat avançada i els instituts. #lagasparsocialdesign
Horaris: de 8 a 14 h de dilluns a divendres. 
Per motius de prevenció de la COVID, cal cita prèvia trucant el 93 805 52 62.
Lloc: sala d’exposicions de La Gaspar. Av. Barcelona 105
Ho organitza: Escola municipal d’art La Gaspar
 

URI:https://www.micod.cat/actualitat/agenda/exposicio-talent-creatiu-i-empresa-disseny-i-compromis-social-lgbti.html
CLASS:PUBLIC
END:VEVENT
END:VCALENDAR
