BEGIN:VCALENDAR
VERSION:2.0
CALSCALE:GREGORIAN
PRODID:-//Diputació de Barcelona//DibaCMS//EN
BEGIN:VEVENT
UID:895
DTSTAMP:20260423T132543
DTSTART:20210307T103000
DTEND:20210307T123000
SUMMARY:SORTIDA PEL DIA DE LA DONA
LOCATION:
METHOD:PUBLISH
X-WR-CALNAME:coordinacio@micod.cat
X-WR-TIMEZONE:Europe/Madrid
DESCRIPTION:Passejada al cim de Puig Aguilera (11 km). Podeu pujar a peu, fent running, amb bici, amb moto o jeep. Ens trobem totes i tots al cim a les 12 h, farem un mos i donarem lectura al Manifest 8M de 2021.

URI:https://www.micod.cat/actualitat/agenda/sortida-pel-dia-de-la-dona.html
CLASS:PUBLIC
END:VEVENT
END:VCALENDAR
