BEGIN:VCALENDAR
VERSION:2.0
CALSCALE:GREGORIAN
PRODID:-//Diputació de Barcelona//DibaCMS//EN
BEGIN:VEVENT
UID:814
DTSTAMP:20260423T182130
DTSTART:20201205T000000
DTEND:20201205T235900
SUMMARY:Mostra internacional de films de dones: LES RESILIENTS
LOCATION:
METHOD:PUBLISH
X-WR-CALNAME:coordinacio@micod.cat
X-WR-TIMEZONE:Europe/Madrid
DESCRIPTION:Última pel·lícula de la Mostra internacional de films de dones emmarcat en el programa CONEGUDES TAMBÉ A CASA, i aquest 2020, des de casa!

Inscriu-te a https://forms.gle/ciQwnKjgLQfJgMeF6

 

URI:https://www.micod.cat/actualitat/agenda/mostra-internacional-de-films-de-dones-les-resilients.html
CLASS:PUBLIC
END:VEVENT
END:VCALENDAR
