BEGIN:VCALENDAR
VERSION:2.0
CALSCALE:GREGORIAN
PRODID:-//Diputació de Barcelona//DibaCMS//EN
BEGIN:VEVENT
UID:720
DTSTAMP:20260420T125309
DTSTART:20200314T120000
DTEND:20200314T130000
SUMMARY:Activitat: Contes de color lila, que l’amor s’hi enfila, a càrrec de  Mònica Torra
LOCATION:
METHOD:PUBLISH
X-WR-CALNAME:coordinacio@micod.cat
X-WR-TIMEZONE:Europe/Madrid
DESCRIPTION:Hora: 12.00 h

Lloc: Biblioteca Central d’Igualada

Ho organitza: Àrea d’Igualtat de gènere de la Mancomunitat de la Conca d’Òdena

 

URI:https://www.micod.cat/actualitat/agenda/720-activitat-contes-de-color-lila-que-lamor-shi-enfila-a-carrec-de-monica-torra.html
CLASS:PUBLIC
END:VEVENT
END:VCALENDAR
