BEGIN:VCALENDAR
VERSION:2.0
CALSCALE:GREGORIAN
PRODID:-//Diputació de Barcelona//DibaCMS//EN
BEGIN:VEVENT
UID:651
DTSTAMP:20260424T123716
DTSTART:20191126T170000
DTEND:20191126T190000
SUMMARY:TALLER: Va de privilegis, noves masculinitats 
LOCATION:
METHOD:PUBLISH
X-WR-CALNAME:coordinacio@micod.cat
X-WR-TIMEZONE:Europe/Madrid
DESCRIPTION:
URI:https://www.micod.cat/actualitat/agenda/taller-va-de-privilegis-noves-masculinitats-.html
CLASS:PUBLIC
END:VEVENT
END:VCALENDAR
