BEGIN:VCALENDAR
VERSION:2.0
CALSCALE:GREGORIAN
PRODID:-//Diputació de Barcelona//DibaCMS//EN
BEGIN:VEVENT
UID:648
DTSTAMP:20260424T223457
DTSTART:20191125T180000
DTEND:20191125T190000
SUMMARY:ENCESA D’ESPELMES, lectura de poemes i actuació musical
LOCATION:
METHOD:PUBLISH
X-WR-CALNAME:coordinacio@micod.cat
X-WR-TIMEZONE:Europe/Madrid
DESCRIPTION:
URI:https://www.micod.cat/actualitat/agenda/encesa-despelmes-lectura-de-poemes-i-actuacio-musical.html
CLASS:PUBLIC
END:VEVENT
END:VCALENDAR
