BEGIN:VCALENDAR
VERSION:2.0
CALSCALE:GREGORIAN
PRODID:-//Diputació de Barcelona//DibaCMS//EN
BEGIN:VEVENT
UID:603
DTSTAMP:20260420T162010
DTSTART:20190626T173000
DTEND:20190626T193000
SUMMARY:Taller: disciplina per fomentar l'autoregulació del comportament dels fills/es
LOCATION:
METHOD:PUBLISH
X-WR-CALNAME:coordinacio@micod.cat
X-WR-TIMEZONE:Europe/Madrid
DESCRIPTION:Programa de desenvolupament d’habilitats parentals per a famílies. Projecte COMNOVA.

URI:https://www.micod.cat/actualitat/agenda/taller-disciplina-per-fomentar-lautoregulacio-del-comportament-dels-fillses.html
CLASS:PUBLIC
END:VEVENT
END:VCALENDAR
