BEGIN:VCALENDAR
VERSION:2.0
CALSCALE:GREGORIAN
PRODID:-//Diputació de Barcelona//DibaCMS//EN
BEGIN:VEVENT
UID:468
DTSTAMP:20260424T075959
DTSTART:20180629T120000
DTEND:20180629T150000
SUMMARY:FORMACIÓ: Què hem de saber en l´atenció a les persones trans*? 
LOCATION:
METHOD:PUBLISH
X-WR-CALNAME:coordinacio@micod.cat
X-WR-TIMEZONE:Europe/Madrid
DESCRIPTION:a càrrec de la Dra Rosa Almirall Doctora en Ginecologia i Obstetrícia. Màster en sexualitat Humana. Directora ASSIR Esquerra de Barcelona de l´Institut Català de la Salut. Creadora del servei Trànsit, promoció de la salut de les persones trans* de Catalunya (Institut Català del a Salut).

URI:https://www.micod.cat/actualitat/agenda/formacio-que-hem-de-saber-en-latencio-a-les-persones-trans-.html
CLASS:PUBLIC
END:VEVENT
END:VCALENDAR
