BEGIN:VCALENDAR
VERSION:2.0
CALSCALE:GREGORIAN
PRODID:-//Diputació de Barcelona//DibaCMS//EN
BEGIN:VEVENT
UID:1456
DTSTAMP:20260425T044131
DTSTART:20240706T170000
DTEND:20240706T230000
SUMMARY:OBRIM LA PORTA A TOTS ELS ARMARIS! FESTA ORGULL ANOIA
LOCATION:Lloc: plaça de Pius XII. Igualada. 
METHOD:PUBLISH
X-WR-CALNAME:coordinacio@micod.cat
X-WR-TIMEZONE:Europe/Madrid
DESCRIPTION:Agenda Orgull Anoia de 17 a 23 h

17 h: Presentació de la Guia gramatical de llenguatge no-binari 

18 h: Debat - Xerrada sobre Salut i Realitats DSG

19 h: Espectacle de La Mega Pubilla amb Juan Reina - "Catalunya estima Andalusia"

20 h: Bingo Solidari destinat a la Cooperativa Candela amenitzat per Lady Peligrosidrag Social
20.30 h: Sopar popular

22 h: Espectacle final amb La Barbie Calva

23 h: Festa Final al Polaris d’Igualada

Lloc: plaça de Pius XII. Igualada.

Ho organitza: Associació Orgull Anoia 

 

URI:https://www.micod.cat/actualitat/agenda/obrim-la-porta-a-tots-els-armaris-festa-orgull-anoia.html
CLASS:PUBLIC
END:VEVENT
END:VCALENDAR
