BEGIN:VCALENDAR
VERSION:2.0
CALSCALE:GREGORIAN
PRODID:-//Diputació de Barcelona//DibaCMS//EN
BEGIN:VEVENT
UID:1411
DTSTAMP:20260419T161726
DTSTART:20240308T000000
DTEND:20240308T000000
SUMMARY:Especial 8M: 'Dones productores'
LOCATION:
METHOD:PUBLISH
X-WR-CALNAME:coordinacio@micod.cat
X-WR-TIMEZONE:Europe/Madrid
DESCRIPTION:
URI:https://www.micod.cat/actualitat/agenda/especial-8m-dones-productores.html
CLASS:PUBLIC
END:VEVENT
END:VCALENDAR
