BEGIN:VCALENDAR
VERSION:2.0
CALSCALE:GREGORIAN
PRODID:-//Diputació de Barcelona//DibaCMS//EN
BEGIN:VEVENT
UID:1336
DTSTAMP:20260423T110703
DTSTART:20231118T200000
DTEND:20231118T213000
SUMMARY:CONCERT: Dona, a càrrec de la Coral SI FA SOL.
LOCATION:Església de la Soledat 
METHOD:PUBLISH
X-WR-CALNAME:coordinacio@micod.cat
X-WR-TIMEZONE:Europe/Madrid
DESCRIPTION:Homenatge a les dones que han aconseguit, a través de les lluites, una vida millor.

El concert vol reivindicar les seves llibertats i la igualtat de gènere.

Ho organitza: Coral SI FA SOL

 

URI:https://www.micod.cat/actualitat/agenda/concert-dona-a-carrec-de-la-coral-si-fa-sol.html
CLASS:PUBLIC
END:VEVENT
END:VCALENDAR
