BEGIN:VCALENDAR
VERSION:2.0
CALSCALE:GREGORIAN
PRODID:-//Diputació de Barcelona//DibaCMS//EN
BEGIN:VEVENT
UID:1185
DTSTAMP:20260423T122925
DTSTART:20221122T180000
DTEND:20221122T190000
SUMMARY:1a sessió Marxa exploratòria per Igualada
LOCATION:
METHOD:PUBLISH
X-WR-CALNAME:coordinacio@micod.cat
X-WR-TIMEZONE:Europe/Madrid
DESCRIPTION:Cal inscripció a http://ja.cat/marxes

 

URI:https://www.micod.cat/actualitat/agenda/1a-sessio-marxa-exploratoria-per-igualada.html
CLASS:PUBLIC
END:VEVENT
END:VCALENDAR
