BEGIN:VCALENDAR
VERSION:2.0
CALSCALE:GREGORIAN
PRODID:-//Diputació de Barcelona//DibaCMS//EN
BEGIN:VEVENT
UID:1107
DTSTAMP:20260425T165638
DTSTART:20220327T183000
DTEND:20220327T200000
SUMMARY:Teatre: La dona del tercer segona
LOCATION:
METHOD:PUBLISH
X-WR-CALNAME:coordinacio@micod.cat
X-WR-TIMEZONE:Europe/Madrid
DESCRIPTION:A l'escala hi ha una reunió. La dona del tercer segona no sol assistir a aquestes reunions però avui creu que hi ha de ser i per això ha hagut de plegar abans del súper on treballa. Ha de demanar un favor incòmode als veïns i veïnes, un favor relacionat amb l'estigma que arrosseguen les persones amb alguna malaltia mental. Teatre Nu.

URI:https://www.micod.cat/actualitat/agenda/teatre-la-dona-del-tercer-segona.html
CLASS:PUBLIC
END:VEVENT
END:VCALENDAR
