BEGIN:VCALENDAR
VERSION:2.0
CALSCALE:GREGORIAN
PRODID:-//Diputació de Barcelona//DibaCMS//EN
BEGIN:VEVENT
UID:1092
DTSTAMP:20260419T185133
DTSTART:20220313T190000
DTEND:20220313T200000
SUMMARY:CANÇONS DE DONES amb ROSA ZARAGOZA
LOCATION:
METHOD:PUBLISH
X-WR-CALNAME:coordinacio@micod.cat
X-WR-TIMEZONE:Europe/Madrid
DESCRIPTION:Concert amb un recull de cançons de dones per reforçar l’autoestima i la saludable connexió amb la nostra naturalesa salvatge. Lletres i missatges que ens ajuden en processos vitals com l’embaràs, el part i el postpart.

URI:https://www.micod.cat/actualitat/agenda/cancons-de-dones-amb-rosa-zaragoza.html
CLASS:PUBLIC
END:VEVENT
END:VCALENDAR
