BEGIN:VCALENDAR
VERSION:2.0
CALSCALE:GREGORIAN
PRODID:-//Diputació de Barcelona//DibaCMS//EN
BEGIN:VEVENT
UID:1076
DTSTAMP:20260420T002609
DTSTART:20220308T161500
DTEND:20220308T183000
SUMMARY:LECTURA DEL MANIFEST DEL 8 DE MARÇ, ENTREGA DEL PREMI DEL  CONCURS DE CARTELLS DEL 8M  I ACTIVITATS
LOCATION:
METHOD:PUBLISH
X-WR-CALNAME:coordinacio@micod.cat
X-WR-TIMEZONE:Europe/Madrid
DESCRIPTION:
URI:https://www.micod.cat/actualitat/agenda/lectura-del-manifest-del-8-de-marc-entrega-del-premi-del-concurs-de-cartells-del-8m-i-activitats.html
CLASS:PUBLIC
END:VEVENT
END:VCALENDAR
