BEGIN:VCALENDAR
VERSION:2.0
CALSCALE:GREGORIAN
PRODID:-//Diputació de Barcelona//DibaCMS//EN
BEGIN:VEVENT
UID:1073
DTSTAMP:20260425T163736
DTSTART:20220307T093000
DTEND:20220307T123000
SUMMARY:TAULA RODONA: 7 DONES referents dels feminismes i l’equitat 
LOCATION:
METHOD:PUBLISH
X-WR-CALNAME:coordinacio@micod.cat
X-WR-TIMEZONE:Europe/Madrid
DESCRIPTION:Bàrbara Montes, Carlota Carner, Dinora Sánchez, Ikram Elyakoubi, Mireia Prat, Sanata Dembele N’Diaye, Teresa Riba, Cristina Madrid.

URI:https://www.micod.cat/actualitat/agenda/taula-rodona-7-dones-referents-dels-feminismes-i-lequitat-.html
CLASS:PUBLIC
END:VEVENT
END:VCALENDAR
